BEGIN:VCALENDAR
VERSION:2.0
PRODID:-//Pertanian Universitas Jambi
CALSCALE:GREGORIAN
METHOD:PUBLISH
X-WR-CALNAME:Pertanian Universitas Jambi
X-ORIGINAL-URL:https://pertanian.unja.ac.id/event/webinar-series-3-jurusan-program-studi-agroekoteknologi-fakultas-pertanian-univereitas-jambi/
X-WR-CALDESC:Webinar Series 3 Jurusan/Program Studi Agroekoteknologi Fakultas Pertanian Univereitas Jambi
BEGIN:VEVENT
DTSTART:20221112T083000
DTEND:
SUMMARY:Webinar Series 3 Jurusan/Program Studi Agroekoteknologi Fakultas Pertanian Univereitas Jambi
DESCRIPTION:
LOCATION:
END:VEVENT
END:VCALENDAR
